BEGIN:VCALENDAR
VERSION:2.0
PRODID:-//Caro Coaching - ECPv6.15.20//NONSGML v1.0//EN
CALSCALE:GREGORIAN
METHOD:PUBLISH
X-ORIGINAL-URL:https://carocoaching.at
X-WR-CALDESC:Veranstaltungen für Caro Coaching
REFRESH-INTERVAL;VALUE=DURATION:PT1H
X-Robots-Tag:noindex
X-PUBLISHED-TTL:PT1H
BEGIN:VTIMEZONE
TZID:Europe/Vienna
BEGIN:DAYLIGHT
TZOFFSETFROM:+0100
TZOFFSETTO:+0200
TZNAME:CEST
DTSTART:20250330T010000
END:DAYLIGHT
BEGIN:STANDARD
TZOFFSETFROM:+0200
TZOFFSETTO:+0100
TZNAME:CET
DTSTART:20251026T010000
END:STANDARD
BEGIN:DAYLIGHT
TZOFFSETFROM:+0100
TZOFFSETTO:+0200
TZNAME:CEST
DTSTART:20260329T010000
END:DAYLIGHT
BEGIN:STANDARD
TZOFFSETFROM:+0200
TZOFFSETTO:+0100
TZNAME:CET
DTSTART:20261025T010000
END:STANDARD
BEGIN:DAYLIGHT
TZOFFSETFROM:+0100
TZOFFSETTO:+0200
TZNAME:CEST
DTSTART:20270328T010000
END:DAYLIGHT
BEGIN:STANDARD
TZOFFSETFROM:+0200
TZOFFSETTO:+0100
TZNAME:CET
DTSTART:20271031T010000
END:STANDARD
END:VTIMEZONE
BEGIN:VEVENT
DTSTART;TZID=Europe/Vienna:20260607T100000
DTEND;TZID=Europe/Vienna:20260806T150000
DTSTAMP:20260422T203111
CREATED:20260113T185247Z
LAST-MODIFIED:20260414T122741Z
UID:1660-1780826400-1786028400@carocoaching.at
SUMMARY:Räuchern im Jahreskreis – Frische Wildkräuter sammeln
DESCRIPTION:Räuchern im Jahreskreis lädt dazu ein\, das alte Wissen rund ums Räuchern im Rhythmus der Natur neu zu entdecken und praktisch zu erleben. \nIn drei aufeinander aufbauenden Workshops begleiten wir das Jahr von den ersten Vorbereitungen im Frühling über das Sammeln und Trocknen im Sommer bis hin zum Mischen und Deuten klassischer Räucherwerke im Herbst\, gut vorbereitet gehen wir in den Winter und die Rauhnächte. \nAm 13. März (Dauer: 2 Stunden) starten wir gemeinsam ins Räucherjahr. Dieser Workshop widmet sich der Vorbereitung: Welche Pflanzen wachsen bereits im eigenen Garten oder in der näheren Umgebung? Was braucht es\, um gut und nachhaltig zu sammeln? Wir sprechen über sinnvolle Vorrats- und Lagermöglichkeiten\, über Werkzeuge\, Gefäße und über achtsamen Umgang mit den Pflanzen. Außerdem klären wir grundlegende Fragen rund ums Räuchern und schauen\, welche Kräuter und Harze uns im frühen Frühling bereits zur Verfügung stehen. \nDer Sommer-Workshop am 7. Juni steht ganz im Zeichen des Sammelns. Wir beschäftigen uns mit dem richtigen Zeitpunkt und der achtsamen Art des Pflückens\, mit verschiedenen Methoden des Trocknens und einer kurzen Auffrischung zur Lagerung. Gemeinsam gehen wir auf einen kleinen Kräuterspaziergang\, erkunden\, was gerade wächst\, und probieren – wenn möglich – erste kleine Probesammlungen aus. Praxis und Wahrnehmung stehen hier im Vordergrund. Mit anschließendem Picknick. \nBeim Herbst-Termin (Termin folgt) tauchen wir schließlich tiefer in die Welt des Räucherns ein. In diesem klassischen Räucherworkshop stellen wir eigene Mischungen her\, lernen ihre Wirkungen und Bedeutungen kennen und befassen uns intensiv mit den einzelnen Pflanzen\, Harzen und ihren Qualitäten. Ein Abschluss\, der Wissen\, Intuition und die ruhige Zeit des Jahres miteinander verbindet. \nRäuchern im Jahreskreis – Vorbereitung auf das Räucherjahr\, Fokus auf erste Pflanzen & Harze\nWorkshop mit Marie Isabel Plasencia Suarez\nAnkommen ab 17:30 Uhr // 18:00 – 20:00 Uhr // Kosten: 30\,00 € \n  \nRäuchern im Jahreskreis – Frische Wildkräuter sammeln\nWorkshop mit Marie Isabel Plasencia Suarez\nAnkommen ab 09:30 Uhr // 10:00 -15:00 Uhr // Kosten: 30\,00 €
URL:https://carocoaching.at/veranstaltung/raeuchern-im-jahreskreis-frische-wildkraeuter-sammeln/
LOCATION:Im Traum\, Marktgasse 3\, Peggau\, 8120\, Austria
ATTACH;FMTTYPE=image/jpeg:https://carocoaching.at/wp-content/uploads/2026/01/rauchern1.jpg
END:VEVENT
BEGIN:VEVENT
DTSTART;TZID=Europe/Vienna:20260610T180000
DTEND;TZID=Europe/Vienna:20260610T200000
DTSTAMP:20260422T203111
CREATED:20260113T185427Z
LAST-MODIFIED:20260414T115035Z
UID:1662-1781114400-1781121600@carocoaching.at
SUMMARY:Frauen.Kultur.Gespräch - Frauen und Klima
DESCRIPTION:Frauen.Kultur.Gespräch – Dritte Veranstaltung – Frauen und Klima \nKlimakrise und soziale Gerechtigkeit hängen eng zusammen – und Frauen spielen dabei eine zentrale Rolle. Ob in nachhaltigen Initiativen\, in der Sorgearbeit\, in der Landwirtschaft oder als Gestalterinnen neuer Lebensmodelle: Frauen tragen wesentlich zu einer gerechten und zukunftsfähigen Gesellschaft bei. \nBei dieser Veranstaltung widmen wir uns dem Thema Frauen und Nachhaltigkeit beziehungsweise Klimagerechtigkeit mit einem besonderen Blick auf regionale Beispiele und engagierte Frauen aus der Umgebung. Vertreterinnen von Nachhaltigkeitsinitiativen geben Einblicke in ihre Arbeit\, Herausforderungen und Visionen für eine lebenswerte Zukunft. \nEin Impulsvortrag eröffnet den Abend\, anschließend gibt es eine Reflexionsrunde mit Raum für Fragen\, Austausch und gemeinsame Ideen. Danach lassen wir den Abend bei einem gemütlichen Beisammensein ausklingen. \nEin inspirierender Abend für alle\, die sich für Nachhaltigkeit\, Gleichstellung und positive Veränderung interessieren. \n  \n  \n  \n10. Juni 2026 \n18:00–20:00 Uhr \nAnkommen ab 17:30 Uhr \nPeggau \nFreiwillige Spende
URL:https://carocoaching.at/veranstaltung/frauen-kultur-gespraech-dritte-veranstaltung/
LOCATION:Im Traum\, Marktgasse 3\, Peggau\, 8120\, Austria
ATTACH;FMTTYPE=image/jpeg:https://carocoaching.at/wp-content/uploads/2026/01/frauenkutlurgespraech2.jpg
END:VEVENT
BEGIN:VEVENT
DTSTART;TZID=Europe/Vienna:20260617T190000
DTEND;TZID=Europe/Vienna:20260617T210000
DTSTAMP:20260422T203111
CREATED:20260113T183221Z
LAST-MODIFIED:20260113T183314Z
UID:1643-1781722800-1781730000@carocoaching.at
SUMMARY:FrauenTraum – freudvoll Leichtigkeit leben
DESCRIPTION:Ein Ort für authentische Begegnungen & eine Kraftquelle für dich \nDer FrauenTraum bietet Zeit und Raum für dich. Ungefähr alle sechs Wochen treffen wir uns\, um uns Zeit zu nehmen für uns selbst. Nach einer Anfangsmeditation widmen wir uns jedes Mal einem Thema\, dass sich nach den Jahreszeiten richtet. Auf diese Weise verbinden wir uns mit uns selbst\, mit unserer Umgebung und im achtsamen Gespräch auch mit den anderen Frauen. \nGerade im hektischen Alltag verlieren wir uns selbst oft etwas aus den Augen und wir funktionieren nur noch. Der FrauenTraum schafft eine Gelegenheit sich Zeit zu gönnen\, um bei sich anzukommen. Diese Zeit gehört nur dir und deinen Bedürfnissen. Das Ziel ist es anschließend gestärkt nach Hause zu gehen. \n  \nWas machen wir beim FrauenTraum? \nAuszeit\, Entspannung\, Selbstreflexion\, Workshop \nMeditation: In der Anfangsmeditation verbindet sich jede Frau mit sich selbst. Jede spürt in sich „was ist mir selbst in Bezug auf das Thema wichtig\, was sind meine Werte“.\nIndem wir unsere eigenen Werte und Bedürfnisse klar haben\, können wir unser Leben nach unseren eigenen Vorlieben ausrichten. \nZeit mit mir: Zeit\, die du dir gönnst\, schafft oft neue Klarheit. Im Hamsterrad\, wenn wir einfach nur noch funktionieren\, verlieren wir oft den Überblick und manchmal auch unsere eigenen Bedürfnisse aus den Augen. Wenn wir uns Zeit für uns selbst nehmen\, kann es gelingen\, dass neue Klarheit entsteht und ich wiedersehe\, wo ich gerade im Leben stehe\, was mögliche nächste Schritte sind\, wie ich meinen Alltag im Moment gestalten möchte. \nAustausch mit anderen: Der achtsame Austausch mit anderen Frauen wird oft als sehr stärkend und ermutigend erlebt. Gemeinsam ist man weniger allein\, auch wenn vielleicht gerade eine schwierigere Phase im Leben ist\, kann der Austausch mit anderen erleichternd sein. \nZusammen sein: Abschließend gibt es immer ein kleines Genuss-Buffet zum gemeinsamen Abschluss des Abends \n  \nFrauenTraum – freudvoll Leichtigkeit leben \nMit Caroline Oswald-Fleck \nAnkommen ab 18:30 Uhr // 19:00 -21:00 Uhr // Kosten: 30\,00 €
URL:https://carocoaching.at/veranstaltung/frauentraum-freudvoll-leichtigkeit-leben/
LOCATION:Im Traum\, Marktgasse 3\, Peggau\, 8120\, Austria
ATTACH;FMTTYPE=image/jpeg:https://carocoaching.at/wp-content/uploads/2026/01/Frauenkreis4-1-768x10241-1.jpg
END:VEVENT
END:VCALENDAR