BEGIN:VCALENDAR
VERSION:2.0
PRODID:-//Caro Coaching - ECPv6.15.20//NONSGML v1.0//EN
CALSCALE:GREGORIAN
METHOD:PUBLISH
X-WR-CALNAME:Caro Coaching
X-ORIGINAL-URL:https://carocoaching.at
X-WR-CALDESC:Veranstaltungen für Caro Coaching
REFRESH-INTERVAL;VALUE=DURATION:PT1H
X-Robots-Tag:noindex
X-PUBLISHED-TTL:PT1H
BEGIN:VTIMEZONE
TZID:Europe/Vienna
BEGIN:DAYLIGHT
TZOFFSETFROM:+0100
TZOFFSETTO:+0200
TZNAME:CEST
DTSTART:20250330T010000
END:DAYLIGHT
BEGIN:STANDARD
TZOFFSETFROM:+0200
TZOFFSETTO:+0100
TZNAME:CET
DTSTART:20251026T010000
END:STANDARD
BEGIN:DAYLIGHT
TZOFFSETFROM:+0100
TZOFFSETTO:+0200
TZNAME:CEST
DTSTART:20260329T010000
END:DAYLIGHT
BEGIN:STANDARD
TZOFFSETFROM:+0200
TZOFFSETTO:+0100
TZNAME:CET
DTSTART:20261025T010000
END:STANDARD
BEGIN:DAYLIGHT
TZOFFSETFROM:+0100
TZOFFSETTO:+0200
TZNAME:CEST
DTSTART:20270328T010000
END:DAYLIGHT
BEGIN:STANDARD
TZOFFSETFROM:+0200
TZOFFSETTO:+0100
TZNAME:CET
DTSTART:20271031T010000
END:STANDARD
END:VTIMEZONE
BEGIN:VEVENT
DTSTART;TZID=Europe/Vienna:20260429T190000
DTEND;TZID=Europe/Vienna:20260429T210000
DTSTAMP:20260422T161410
CREATED:20260113T183035Z
LAST-MODIFIED:20260316T140629Z
UID:1641-1777489200-1777496400@carocoaching.at
SUMMARY:FrauenTraum – mutig lustvolles erleben
DESCRIPTION:Ein Ort für authentische Begegnungen & eine Kraftquelle für dich \nDer FrauenTraum bietet Zeit und Raum für dich. Ungefähr alle sechs Wochen treffen wir uns\, um uns Zeit zu nehmen für uns selbst. Nach einer Anfangsmeditation widmen wir uns jedes Mal einem Thema\, dass sich nach den Jahreszeiten richtet. Auf diese Weise verbinden wir uns mit uns selbst\, mit unserer Umgebung und im achtsamen Gespräch auch mit den anderen Frauen. \nGerade im hektischen Alltag verlieren wir uns selbst oft etwas aus den Augen und wir funktionieren nur noch. Der FrauenTraum schafft eine Gelegenheit sich Zeit zu gönnen\, um bei sich anzukommen. Diese Zeit gehört nur dir und deinen Bedürfnissen. Das Ziel ist es anschließend gestärkt nach Hause zu gehen. \n  \nWas machen wir beim FrauenTraum? \nAuszeit\, Entspannung\, Selbstreflexion\, Workshop \nMeditation: In der Anfangsmeditation verbindet sich jede Frau mit sich selbst. Jede spürt in sich „was ist mir selbst in Bezug auf das Thema wichtig\, was sind meine Werte“.\nIndem wir unsere eigenen Werte und Bedürfnisse klar haben\, können wir unser Leben nach unseren eigenen Vorlieben ausrichten. \nZeit mit mir: Zeit\, die du dir gönnst\, schafft oft neue Klarheit. Im Hamsterrad\, wenn wir einfach nur noch funktionieren\, verlieren wir oft den Überblick und manchmal auch unsere eigenen Bedürfnisse aus den Augen. Wenn wir uns Zeit für uns selbst nehmen\, kann es gelingen\, dass neue Klarheit entsteht und ich wiedersehe\, wo ich gerade im Leben stehe\, was mögliche nächste Schritte sind\, wie ich meinen Alltag im Moment gestalten möchte. \nAustausch mit anderen: Der achtsame Austausch mit anderen Frauen wird oft als sehr stärkend und ermutigend erlebt. Gemeinsam ist man weniger allein\, auch wenn vielleicht gerade eine schwierigere Phase im Leben ist\, kann der Austausch mit anderen erleichternd sein. \nZusammen sein: Abschließend gibt es immer ein kleines Genuss-Buffet zum gemeinsamen Abschluss des Abends \n  \nFrauenTraum – mutig lustvolles erleben \nMit Caroline Oswald-Fleck \nAnkommen ab 18:30 Uhr // 19:00 -21:00 Uhr // Kosten: 30\,00 €
URL:https://carocoaching.at/veranstaltung/frauentraum-mutig-lustvolles-erleben/
LOCATION:Im Traum\, Marktgasse 3\, Peggau\, 8120\, Austria
ATTACH;FMTTYPE=image/jpeg:https://carocoaching.at/wp-content/uploads/2026/01/Frauenkreis4-1-768x10241-1.jpg
END:VEVENT
END:VCALENDAR