BEGIN:VCALENDAR
VERSION:2.0
PRODID:-//Caro Coaching - ECPv6.15.20//NONSGML v1.0//EN
CALSCALE:GREGORIAN
METHOD:PUBLISH
X-ORIGINAL-URL:https://carocoaching.at
X-WR-CALDESC:Veranstaltungen für Caro Coaching
REFRESH-INTERVAL;VALUE=DURATION:PT1H
X-Robots-Tag:noindex
X-PUBLISHED-TTL:PT1H
BEGIN:VTIMEZONE
TZID:Europe/Vienna
BEGIN:DAYLIGHT
TZOFFSETFROM:+0100
TZOFFSETTO:+0200
TZNAME:CEST
DTSTART:20250330T010000
END:DAYLIGHT
BEGIN:STANDARD
TZOFFSETFROM:+0200
TZOFFSETTO:+0100
TZNAME:CET
DTSTART:20251026T010000
END:STANDARD
BEGIN:DAYLIGHT
TZOFFSETFROM:+0100
TZOFFSETTO:+0200
TZNAME:CEST
DTSTART:20260329T010000
END:DAYLIGHT
BEGIN:STANDARD
TZOFFSETFROM:+0200
TZOFFSETTO:+0100
TZNAME:CET
DTSTART:20261025T010000
END:STANDARD
BEGIN:DAYLIGHT
TZOFFSETFROM:+0100
TZOFFSETTO:+0200
TZNAME:CEST
DTSTART:20270328T010000
END:DAYLIGHT
BEGIN:STANDARD
TZOFFSETFROM:+0200
TZOFFSETTO:+0100
TZNAME:CET
DTSTART:20271031T010000
END:STANDARD
END:VTIMEZONE
BEGIN:VEVENT
DTSTART;TZID=Europe/Vienna:20260509T100000
DTEND;TZID=Europe/Vienna:20260509T150000
DTSTAMP:20260422T233816
CREATED:20260112T155710Z
LAST-MODIFIED:20260415T091235Z
UID:1584-1778320800-1778338800@carocoaching.at
SUMMARY:Selbstliebe und Lebenslust begleiten deine Visionen!
DESCRIPTION:„Selbstliebe und Lebenslust!“  \nWir laden herzlich zum Workshop mit den Formaten „Dialog & Aufstellung“ ein. \nWir – das sind Caroline Oswald – Fleck und Andrea Haberl\, beide dialogisch – systemische Lebens- und Sozialberaterinnen. \n  \nSelbstliebe und Lebenslust begleiten deine Visionen! \nIm Mai begrüßen wir den Sommerbeginn. Der Mai ist der Monat der Lebensfreude und der Lebenslust. Wir sind bereits die ersten Schritte in Richtung Umsetzung unserer Visionen gegangen. Erste Samen\, die wir liebevoll gesät haben\, sind bereits aufgegangen. Im Mai darf alles so richtig wachsen. Die Natur macht es uns vor. \nWir laden dich ein\, in das Gefühl von Selbstliebe und Lebenslust einzutauchen und mit dieser Erfahrung den Weg deiner Vision weiterzugehen und sie voll zum Blühen zu bringen. \nIm Dialogkreis wollen wir gemeinsam der Frage nachgehen: „Wie und wann fühle ich Selbstliebe?“ „Wann fühle ich mich in meiner Kraft?“ „Was möchte ich (in mir) zum Blühen bringen?“ \nMit Elementen der systemischen Aufstellungsarbeit wollen wir erkunden\, was es zur Erfüllung deiner Vision oder deines Herzenswunsches noch braucht. Und du wirst sehen: eigentlich ist schon alles da. \n  \nTermin: 09.05.2026 \nUhrzeit: von 10:00 bis ca. 15:00 Uhr; \nAnkommen ab 09:30 Uhr \nKosten: 90\,00 Euro \nMax. 8 Personen – jede & jeder ist herzlich willkommen! \nOrt: Marktgasse 3\, 8120 Peggau – Parkplätze vorhanden\, gegenüber vom Bahnhof Peggau \n  \nFalls du Fragen hast\, kannst du uns jederzeit kontaktieren. \nWir freuen uns auf dich! \nAndrea & Caroline
URL:https://carocoaching.at/veranstaltung/selbstliebe/
LOCATION:Im Traum\, Marktgasse 3\, Peggau\, 8120\, Austria
CATEGORIES:Dialog
ATTACH;FMTTYPE=image/jpeg:https://carocoaching.at/wp-content/uploads/2026/01/Dialo-Aufstellung.jpg
END:VEVENT
END:VCALENDAR