BEGIN:VCALENDAR
VERSION:2.0
PRODID:-//Caro Coaching - ECPv6.15.20//NONSGML v1.0//EN
CALSCALE:GREGORIAN
METHOD:PUBLISH
X-ORIGINAL-URL:https://carocoaching.at
X-WR-CALDESC:Veranstaltungen für Caro Coaching
REFRESH-INTERVAL;VALUE=DURATION:PT1H
X-Robots-Tag:noindex
X-PUBLISHED-TTL:PT1H
BEGIN:VTIMEZONE
TZID:Europe/Vienna
BEGIN:DAYLIGHT
TZOFFSETFROM:+0100
TZOFFSETTO:+0200
TZNAME:CEST
DTSTART:20250330T010000
END:DAYLIGHT
BEGIN:STANDARD
TZOFFSETFROM:+0200
TZOFFSETTO:+0100
TZNAME:CET
DTSTART:20251026T010000
END:STANDARD
BEGIN:DAYLIGHT
TZOFFSETFROM:+0100
TZOFFSETTO:+0200
TZNAME:CEST
DTSTART:20260329T010000
END:DAYLIGHT
BEGIN:STANDARD
TZOFFSETFROM:+0200
TZOFFSETTO:+0100
TZNAME:CET
DTSTART:20261025T010000
END:STANDARD
BEGIN:DAYLIGHT
TZOFFSETFROM:+0100
TZOFFSETTO:+0200
TZNAME:CEST
DTSTART:20270328T010000
END:DAYLIGHT
BEGIN:STANDARD
TZOFFSETFROM:+0200
TZOFFSETTO:+0100
TZNAME:CET
DTSTART:20271031T010000
END:STANDARD
END:VTIMEZONE
BEGIN:VEVENT
DTSTART;TZID=Europe/Vienna:20260627T100000
DTEND;TZID=Europe/Vienna:20260627T160000
DTSTAMP:20260423T202825
CREATED:20260423T065154Z
LAST-MODIFIED:20260423T065154Z
UID:1932-1782554400-1782576000@carocoaching.at
SUMMARY:ICH - DU - WIR: Einführungsseminar in den Dialog
DESCRIPTION:„Wir sehen die Welt nicht so\, wie sie ist\, sondern wie wir sind“ (Stephen Covey Sr.) \nICH – DU – WIR: Kommunikation für ein gelingendes Miteinander \nEinführungsseminar in den Dialog \n  \nWarum Dialog? \nDer Dialog verlangsamt das Gespräch\, auf diese Weise können wir einander besser hören. Dabei gewährleisten Dialogachtsamkeiten einen sicheren Raum und ermöglichen Verbindung zu erleben und zu erkennen\, was in mir selbst auftaucht. Der Dialog schafft Beziehung zu sich und zu anderen. \n  \nWas erwartet dich? \nEinführung in die Geschichte des Dialogs und in die Dialogachtsamkeiten\, Erklärung des Dialogmodells\, wir werden gemeinsam den Unterschied zwischen Diskussion und Dialog erkunden\, Ablauf einer Dialogkreisrunde\, wir gestalten gemeinsam einen Dialograum und es gibt Raum für Übungen. \n  \nDialogkreis: Absicht ist es\, den Dialog zu erkunden. \nThema: „Ich – Du – Wir“ im Dialog \n  \nUhrzeit: von 10:00 bis 16:00 Uhr; \nAnkommen ab 09:30 Uhr \nKosten: 90\,00 Euro \nMax. 10 Personen – jede & jeder ist herzlich willkommen! \nOrt: Marktgasse 3\, 8120 Peggau – Parkplätze vorhanden\, gegenüber vom Bahnhof Peggau \n  \n  \nFalls du Fragen hast\, kannst du uns jederzeit kontaktieren. \nWir freuen uns auf dich! \nAndrea & Caroline
URL:https://carocoaching.at/veranstaltung/einfuehrungsseminar-dialog/
LOCATION:Im Traum\, Marktgasse 3\, Peggau\, 8120\, Austria
CATEGORIES:Dialog
ATTACH;FMTTYPE=image/png:https://carocoaching.at/wp-content/uploads/2025/04/Dialog-e1776926973498.png
END:VEVENT
END:VCALENDAR